BEGIN:VCALENDAR
VERSION:2.0
PRODID:-//Jeebee.nl - ECPv6.15.15//NONSGML v1.0//EN
CALSCALE:GREGORIAN
METHOD:PUBLISH
X-ORIGINAL-URL:https://www.jeebee.nl
X-WR-CALDESC:Evenementen voor Jeebee.nl
REFRESH-INTERVAL;VALUE=DURATION:PT1H
X-Robots-Tag:noindex
X-PUBLISHED-TTL:PT1H
BEGIN:VTIMEZONE
TZID:Europe/Amsterdam
BEGIN:DAYLIGHT
TZOFFSETFROM:+0100
TZOFFSETTO:+0200
TZNAME:CEST
DTSTART:20210328T010000
END:DAYLIGHT
BEGIN:STANDARD
TZOFFSETFROM:+0200
TZOFFSETTO:+0100
TZNAME:CET
DTSTART:20211031T010000
END:STANDARD
BEGIN:DAYLIGHT
TZOFFSETFROM:+0100
TZOFFSETTO:+0200
TZNAME:CEST
DTSTART:20220327T010000
END:DAYLIGHT
BEGIN:STANDARD
TZOFFSETFROM:+0200
TZOFFSETTO:+0100
TZNAME:CET
DTSTART:20221030T010000
END:STANDARD
BEGIN:DAYLIGHT
TZOFFSETFROM:+0100
TZOFFSETTO:+0200
TZNAME:CEST
DTSTART:20230326T010000
END:DAYLIGHT
BEGIN:STANDARD
TZOFFSETFROM:+0200
TZOFFSETTO:+0100
TZNAME:CET
DTSTART:20231029T010000
END:STANDARD
BEGIN:DAYLIGHT
TZOFFSETFROM:+0100
TZOFFSETTO:+0200
TZNAME:CEST
DTSTART:20240331T010000
END:DAYLIGHT
BEGIN:STANDARD
TZOFFSETFROM:+0200
TZOFFSETTO:+0100
TZNAME:CET
DTSTART:20241027T010000
END:STANDARD
BEGIN:DAYLIGHT
TZOFFSETFROM:+0100
TZOFFSETTO:+0200
TZNAME:CEST
DTSTART:20250330T010000
END:DAYLIGHT
BEGIN:STANDARD
TZOFFSETFROM:+0200
TZOFFSETTO:+0100
TZNAME:CET
DTSTART:20251026T010000
END:STANDARD
END:VTIMEZONE
BEGIN:VTIMEZONE
TZID:Europe/Paris
BEGIN:DAYLIGHT
TZOFFSETFROM:+0100
TZOFFSETTO:+0200
TZNAME:CEST
DTSTART:20190331T010000
END:DAYLIGHT
BEGIN:STANDARD
TZOFFSETFROM:+0200
TZOFFSETTO:+0100
TZNAME:CET
DTSTART:20191027T010000
END:STANDARD
BEGIN:DAYLIGHT
TZOFFSETFROM:+0100
TZOFFSETTO:+0200
TZNAME:CEST
DTSTART:20200329T010000
END:DAYLIGHT
BEGIN:STANDARD
TZOFFSETFROM:+0200
TZOFFSETTO:+0100
TZNAME:CET
DTSTART:20201025T010000
END:STANDARD
BEGIN:DAYLIGHT
TZOFFSETFROM:+0100
TZOFFSETTO:+0200
TZNAME:CEST
DTSTART:20210328T010000
END:DAYLIGHT
BEGIN:STANDARD
TZOFFSETFROM:+0200
TZOFFSETTO:+0100
TZNAME:CET
DTSTART:20211031T010000
END:STANDARD
BEGIN:DAYLIGHT
TZOFFSETFROM:+0100
TZOFFSETTO:+0200
TZNAME:CEST
DTSTART:20220327T010000
END:DAYLIGHT
BEGIN:STANDARD
TZOFFSETFROM:+0200
TZOFFSETTO:+0100
TZNAME:CET
DTSTART:20221030T010000
END:STANDARD
END:VTIMEZONE
BEGIN:VEVENT
DTSTART;TZID=Europe/Amsterdam:20240921T100000
DTEND;TZID=Europe/Amsterdam:20240922T160000
DTSTAMP:20260421T122647
CREATED:20231028T190554Z
LAST-MODIFIED:20240919T114132Z
UID:10000054-1726912800-1727020800@www.jeebee.nl
SUMMARY:21 & 22-9-2024 Ouddorp (strand)
DESCRIPTION:Hoi Allemaal\, \nOp Z A T E R D A G 21 September en  Z O N D A G 22 September 2024 is er op het strand in OUDDORP een strandevenement. \nJeebee rijdt weer op een door een graafploeg aangelegd parcours van ongeveer 2.5 kilometer\, hier liggen dan ook 6 of meer banen. \nU kunt zich vanaf 9.30 uur inschrijven in strandtent “de Zeester”.Let op!! De strandtent en het parcours zijn met auto alleen te bereiken onder begeleiding van Jeebee.U kunt uw auto beneden parkeren en genieten van een korte wandeling in de duinen om u alvast in te schrijven. \nVanaf 9.30 uur zal Jeebee u in groepjes met de auto door de duinen begeleiden. \nU mag het strand uitsluitend Links van de oprit betreden. \nWanneer u uw inschrijving nog niet heeft gedaan aub uw auto netjes parkeren op het strand op aanwijzing van een Jeebee medewerker.  \nHeeft u in de file gestaan en bent u wat later? U mag alleen onder begeleiding van Jeebee met de auto naar het strand. \nMet een bord zullen wij zowel boven als beneden aangeven op welk tijdstip Jeebee u kan begeleiden. \nWanneer u in de loop van de dag het strand met de auto gaat verlaten\, mag ook dit alleen onder begeleiding van Jeebee. \nZonder begeleiding de duinen met auto betreden=100% bekeuring. \nWe hebben te maken met een natuurgebied en daaraan zijn bepaalde spelregels verbonden. Deze spelregels moeten worden nageleefd. \nDe hele dag zijn er personen aanwezig die dit evenement beoordelen. Wanneer de regels niet worden nageleefd zal de persoon in kwestie daarop worden aangesproken en in sommige gevallen zelfs worden bekeurd. Later kan dit ook gevolgen hebben voor Jeebee. \nJeebee en de natuur rekenen op uw medewerking. \nRoutebeschrijving :         U rijdt naar OUDDORP\, \n                                    volg de borden richting “Stranden”                                                                                        daarna de jeebee-beren-richting-bordjes \nHierbij de uitnodiging voor het evenement Ouddorp. Ons jaarlijks strand evenement. \nOp Zaterdag zullen we rijden van 11.00 uur tot 16.00 uur.Op Zondag zullen we rijden van 13.00 uur tot 16.00 uur. dit ivm de zondagsrust. \nInschrijven Zaterdag 21-9 \nInschrijven Zondag 22-9 \n  \n 
URL:https://www.jeebee.nl/event/21-22-9-2024-ouddorp-strand/
LOCATION:Ouddorp\, oosterduinpad\, ouddorp
END:VEVENT
BEGIN:VEVENT
DTSTART;TZID=Europe/Amsterdam:20230916T100000
DTEND;TZID=Europe/Amsterdam:20230917T160000
DTSTAMP:20260421T122648
CREATED:20221120T163109Z
LAST-MODIFIED:20240316T181948Z
UID:10000043-1694858400-1694966400@www.jeebee.nl
SUMMARY:16 & 17 -9-2023 Strand Ouddorp
DESCRIPTION:Hoi Allemaal\, \nOp Z A T E R D A G 16 September en  Z O N D A G 17 September 2023 is er op het strand in OUDDORP een strandevenement. \nJeebee rijdt weer op een door een graafploeg aangelegd parcours van ongeveer 2.5 kilometer\, hier liggen dan ook 6 of meer banen. \nU kunt zich vanaf 9.30 uur inschrijven in strandtent “de Zeester”.Let op!! De strandtent en het parcours zijn met auto alleen te bereiken onder begeleiding van Jeebee.U kunt uw auto beneden parkeren en genieten van een korte wandeling in de duinen om u alvast in te schrijven. \nVanaf 9.30 uur zal Jeebee u in groepjes met de auto door de duinen begeleiden. \nU mag het strand uitsluitend Links van de oprit betreden. \nWanneer u uw inschrijving nog niet heeft gedaan aub uw auto netjes parkeren op het strand op aanwijzing van een Jeebee medewerker.  \nHeeft u in de file gestaan en bent u wat later? U mag alleen onder begeleiding van Jeebee met de auto naar het strand. \nMet een bord zullen wij zowel boven als beneden aangeven op welk tijdstip Jeebee u kan begeleiden. \nWanneer u in de loop van de dag het strand met de auto gaat verlaten\, mag ook dit alleen onder begeleiding van Jeebee. \nZonder begeleiding de duinen met auto betreden=100% bekeuring. \nWe hebben te maken met een natuurgebied en daaraan zijn bepaalde spelregels verbonden. Deze spelregels moeten worden nageleefd. \nDe hele dag zijn er personen aanwezig die dit evenement beoordelen. Wanneer de regels niet worden nageleefd zal de persoon in kwestie daarop worden aangesproken en in sommige gevallen zelfs worden bekeurd. Later kan dit ook gevolgen hebben voor Jeebee. \nJeebee en de natuur rekenen op uw medewerking. \nRoutebeschrijving :         U rijdt naar OUDDORP\, \n                                    volg de borden richting “Stranden”                                                                                        daarna de jeebee-beren-richting-bordjes \nHierbij de uitnodiging voor het evenement Ouddorp. Ons jaarlijks strand evenement. \nOp Zaterdag zullen we rijden van 10.00 uur tot 16.00 uur.Op Zondag zullen we rijden van 13.00 uur tot 16.00 uur. dit ivm de zondagsrust. \nInschrijven Zaterdag 16-9 \nInschrijven Zondag 17-9 \n 
URL:https://www.jeebee.nl/event/16-17-9-2023-strand-ouddorp/
LOCATION:Ouddorp\, oosterduinpad\, ouddorp
CATEGORIES:2023
END:VEVENT
BEGIN:VEVENT
DTSTART;TZID=Europe/Amsterdam:20220910T100000
DTEND;TZID=Europe/Amsterdam:20220911T160000
DTSTAMP:20260421T122648
CREATED:20220101T171433Z
LAST-MODIFIED:20221120T163132Z
UID:10000036-1662804000-1662912000@www.jeebee.nl
SUMMARY:10 & 11-9-2022 Ouddorp
DESCRIPTION:Hoi Allemaal\, \nOp Z A T E R D A G 10 September en  Z O N D A G 11 September 2022 is er op het strand in OUDDORP een strandevenement. \nJeebee rijdt weer op een door een graafploeg aangelegd parcours van ongeveer 2.5 kilometer\, hier liggen dan ook 6 of meer banen. \nU kunt zich vanaf 9.30 uur inschrijven in strandtent “de Zeester”.Let op!! De strandtent en het parcours zijn met auto alleen te bereiken onder begeleiding van Jeebee.U kunt uw auto beneden parkeren en genieten van een korte wandeling in de duinen om u alvast in te schrijven. \nVanaf 9.30 uur zal Jeebee u in groepjes met de auto door de duinen begeleiden. \nU mag het strand uitsluitend Links van de oprit betreden. \nWanneer u uw inschrijving nog niet heeft gedaan aub uw auto netjes parkeren op het strand op aanwijzing van een Jeebee medewerker.  \nHeeft u in de file gestaan en bent u wat later? U mag alleen onder begeleiding van Jeebee met de auto naar het strand. \nMet een bord zullen wij zowel boven als beneden aangeven op welk tijdstip Jeebee u kan begeleiden. \nWanneer u in de loop van de dag het strand met de auto gaat verlaten\, mag ook dit alleen onder begeleiding van Jeebee. \nZonder begeleiding de duinen met auto betreden=100% bekeuring. \nWe hebben te maken met een natuurgebied en daaraan zijn bepaalde spelregels verbonden. Deze spelregels moeten worden nageleefd. \nDe hele dag zijn er personen aanwezig die dit evenement beoordelen. Wanneer de regels niet worden nageleefd zal de persoon in kwestie daarop worden aangesproken en in sommige gevallen zelfs worden bekeurd. Later kan dit ook gevolgen hebben voor Jeebee. \nJeebee en de natuur rekenen op uw medewerking. \nRoutebeschrijving :         U rijdt naar OUDDORP\, \n                                    volg de borden richting “Stranden”                                                                                        daarna de jeebee-beren-richting-bordjes \nHierbij de uitnodiging voor het evenement Ouddorp. Ons jaarlijks strand evenement. \nOp Zaterdag zullen we rijden van 10.00 uur tot 16.00 uur.Op Zondag zullen we rijden van 13.00 uur tot 16.00 uur. dit ivm de zondagsrust. \nInschrijven Zaterdag 10-9 \nInschrijven Zondag 11-9 \n 
URL:https://www.jeebee.nl/event/10-11-9-2022-ouddorp/
LOCATION:Ouddorp\, oosterduinpad\, ouddorp
END:VEVENT
BEGIN:VEVENT
DTSTART;TZID=Europe/Paris:20210911T100000
DTEND;TZID=Europe/Paris:20210912T160000
DTSTAMP:20260421T122648
CREATED:20201227T160040Z
LAST-MODIFIED:20210711T124723Z
UID:10000028-1631354400-1631462400@www.jeebee.nl
SUMMARY:11 & 12-9-21 Strand Ouddorp.
DESCRIPTION:Op Z A T E R D A G 11 September en Z O N D A G 12 September 2021 is er op het strand in OUDDORP een strandevenement in samenwerking met Stichting kop van Goeree \nJeebee rijdt weer op een door een graafploeg aangelegd parcours van ongeveer 2.5 kilometer\, hier liggen dan ook 6 of meer banen. \nU kunt zich vanaf 10.30 uur inschrijven in strandtent “de Zeester”. \nLET OP  \nZATERDAG VAN 11.00 uur tot 16.00 uur rijden!!ZONDAG VAN 13.00 uur tot 16.00 uur rijden!! \nLet op!! De strandtent en het parcours zijn met auto alleen te bereiken onder begeleiding van Jeebee. \nU kunt uw auto beneden parkeren en genieten van een korte wandeling in de duinen om u alvast in te schrijven. \nVanaf 10.30 uur zal Jeebee u in groepjes met de auto door de duinen begeleiden. \nU mag het strand uitsluitend Links van de oprit betreden. \nWanneer u uw inschrijving nog niet heeft gedaan aub uw auto netjes parkeren op het strand op aanwijzing van een Jeebee medewerker. \nHeeft u in de file gestaan en bent u wat later? U mag alleen onder begeleiding van Jeebee met de auto naar het strand. \nMet een bord zullen wij zowel boven als beneden aangeven op welk tijdstip Jeebee u kan begeleiden. \nWanneer u in de loop van de dag het strand met de auto gaat verlaten\, mag ook dit alleen onder begeleiding van Jeebee. \nZonder begeleiding de duinen met auto betreden=100% bekeuring. \nWe hebben te maken met een natuurgebied en daaraan zijn bepaalde spelregels verbonden. Deze spelregels moeten worden nageleefd. \nDe hele dag zijn er personen aanwezig die dit evenement beoordelen. Wanneer de regels niet worden nageleefd zal de persoon in kwestie daarop worden aangesproken en in sommige gevallen zelfs worden bekeurd. Later kan dit ook gevolgen hebben voor Jeebee. \nJeebee en de natuur rekenen op uw medewerking. \nRoutebeschrijving : \nU rijdt naar OUDDORP\,volg de borden richting “Stranden” daarna de jeebee-beren-richting-bordjes \nInschrijven 11-9-21 \nInschrijven 12-9-21
URL:https://www.jeebee.nl/event/11-12-9-21-ouddorp/
LOCATION:Ouddorp\, oosterduinpad\, ouddorp
CATEGORIES:2021
END:VEVENT
BEGIN:VEVENT
DTSTART;TZID=Europe/Paris:20200613T080000
DTEND;TZID=Europe/Paris:20200614T170000
DTSTAMP:20260421T122648
CREATED:20190922T104420Z
LAST-MODIFIED:20200421T165120Z
UID:10000004-1592035200-1592154000@www.jeebee.nl
SUMMARY:13 & 14-6-2020 Ouddorp Afgelast!!!
DESCRIPTION:Helaas wegens het verlengen van de lockdown gaat ook dit evenement niet door.
URL:https://www.jeebee.nl/event/juni-ouddorp-strand/
LOCATION:Ouddorp\, oosterduinpad\, ouddorp
CATEGORIES:2020
END:VEVENT
END:VCALENDAR