BEGIN:VCALENDAR
VERSION:2.0
PRODID:-//Jeebee.nl - ECPv6.15.15//NONSGML v1.0//EN
CALSCALE:GREGORIAN
METHOD:PUBLISH
X-ORIGINAL-URL:https://www.jeebee.nl
X-WR-CALDESC:Evenementen voor Jeebee.nl
REFRESH-INTERVAL;VALUE=DURATION:PT1H
X-Robots-Tag:noindex
X-PUBLISHED-TTL:PT1H
BEGIN:VTIMEZONE
TZID:Europe/Amsterdam
BEGIN:DAYLIGHT
TZOFFSETFROM:+0100
TZOFFSETTO:+0200
TZNAME:CEST
DTSTART:20240331T010000
END:DAYLIGHT
BEGIN:STANDARD
TZOFFSETFROM:+0200
TZOFFSETTO:+0100
TZNAME:CET
DTSTART:20241027T010000
END:STANDARD
BEGIN:DAYLIGHT
TZOFFSETFROM:+0100
TZOFFSETTO:+0200
TZNAME:CEST
DTSTART:20250330T010000
END:DAYLIGHT
BEGIN:STANDARD
TZOFFSETFROM:+0200
TZOFFSETTO:+0100
TZNAME:CET
DTSTART:20251026T010000
END:STANDARD
BEGIN:DAYLIGHT
TZOFFSETFROM:+0100
TZOFFSETTO:+0200
TZNAME:CEST
DTSTART:20260329T010000
END:DAYLIGHT
BEGIN:STANDARD
TZOFFSETFROM:+0200
TZOFFSETTO:+0100
TZNAME:CET
DTSTART:20261025T010000
END:STANDARD
BEGIN:DAYLIGHT
TZOFFSETFROM:+0100
TZOFFSETTO:+0200
TZNAME:CEST
DTSTART:20270328T010000
END:DAYLIGHT
BEGIN:STANDARD
TZOFFSETFROM:+0200
TZOFFSETTO:+0100
TZNAME:CET
DTSTART:20271031T010000
END:STANDARD
END:VTIMEZONE
BEGIN:VEVENT
DTSTART;TZID=Europe/Amsterdam:20260201T100000
DTEND;TZID=Europe/Amsterdam:20260201T150000
DTSTAMP:20260421T102942
CREATED:20250719T183558Z
LAST-MODIFIED:20251220T194412Z
UID:10000068-1769940000-1769958000@www.jeebee.nl
SUMMARY:1-2-26 Boxmeer
DESCRIPTION:Hoi Donateurs en andere belang stellende. \nHierbij de uitnodiging voor het eerste evenement van 2026. \nWegens een wijziging in de planning van de motorcross kalender hebben we helaas een andere locatie moeten zoeken. Waar we in 2025 zijn geeindigd zullen we nu het nieuwe seizoen beginnen. \nWe zullen deze dag weer te gast zijn bij MCO Boxmeer. Het is een oude locatie waar we al vaak geweest zijn. Maar we hebben het weer voor elkaar om er te kunnen rijden. Hier zullen we weer een dag organiseren om lekker te kunnen rijden. Deze dag zal starten om 10.00 uur en zal eindigen om 15.00 uur.  \nWe zullen voor deze dag gebruik maken van het circuit en hier een hoop uitdagingen bij nemen. Voor de meeste is het wel een bekende baan\, welke veel uitdaging zal bieden. \nZowel de gevorderde rijder als de beginnende rijder kan hier prima uit de voeten. \nDe gesteldheid kan licht maar ook zwaar zijn. Dit zal veel aan het weer liggen. Maar we zullen er een leuke baan van maken.  \nOok hebben we deze dag eigen catering. Dus denk aan de jeebee muntjes.  \nOp de knop hieronder komt de inschrijving. De inschrijving is open van 16-11-25 t/m 23-1-26\, hierna is het niet meer mogelijk om online in te schrijven alleen nog op locatie!! \nInschrijven
URL:https://www.jeebee.nl/event/1-2-26-boxmeer/
LOCATION:Boxmeer\, Rijkevoortseweg\, Boxmeer\, Netherlands
CATEGORIES:2026
END:VEVENT
BEGIN:VEVENT
DTSTART;TZID=Europe/Amsterdam:20251214T100000
DTEND;TZID=Europe/Amsterdam:20251214T150000
DTSTAMP:20260421T102942
CREATED:20240913T112745Z
LAST-MODIFIED:20251215T202719Z
UID:10000067-1765706400-1765724400@www.jeebee.nl
SUMMARY:14-12-25 Boxmeer
DESCRIPTION:Hoi Allemaal\, \nZoals het er nu voorstaat zullen we deze dag weer te gast zijn bij MCO Boxmeer. Het is een oude locatie waar we al vaak geweest zijn. Maar we hebben het weer voor elkaar om er te kunnen rijden. Hier zullen we weer een dag organiseren om lekker te kunnen rijden. Deze dag zal starten om 10.00 uur en zal eindigen om 15.00 uur.  \nWe zullen voor deze dag gebruik maken van het circuit en hier een hoop uitdagingen bij nemen. Voor de meeste is het wel een bekende baan\, welke veel uitdaging zal bieden. \nZowel de gevorderde rijder als de beginnende rijder kan hier prima uit de voeten. \nDe gesteldheid kan licht maar ook zwaar zijn. Dit zal veel aan het weer liggen. Maar we zullen er een leuke baan van maken.  \nOok hebben we deze dag eigen catering. Dus denk aan de jeebee muntjes.  \nInschrijven kan zowel via de site (hieronder de link)\, en op de dag zelf. De online inschrijving is open vanaf 10-11-25 t/m 5-12-25\, hierna is het niet meer mogelijk om online in te schrijven maar wel op locatie.  \nInschrijven Boxmeer
URL:https://www.jeebee.nl/event/boxmeer/
LOCATION:Boxmeer\, Rijkevoortseweg\, Boxmeer\, Netherlands
CATEGORIES:2025
END:VEVENT
END:VCALENDAR